BEGIN:VCALENDAR
VERSION:2.0
PRODID:-//Witney District Museum - ECPv6.15.18//NONSGML v1.0//EN
CALSCALE:GREGORIAN
METHOD:PUBLISH
X-ORIGINAL-URL:https://www.witneymuseum.org.uk
X-WR-CALDESC:Events for Witney District Museum
REFRESH-INTERVAL;VALUE=DURATION:PT1H
X-Robots-Tag:noindex
X-PUBLISHED-TTL:PT1H
BEGIN:VTIMEZONE
TZID:UTC
BEGIN:STANDARD
TZOFFSETFROM:+0000
TZOFFSETTO:+0000
TZNAME:UTC
DTSTART:20240101T000000
END:STANDARD
END:VTIMEZONE
BEGIN:VEVENT
DTSTART;TZID=UTC:20250831T140000
DTEND;TZID=UTC:20250831T153000
DTSTAMP:20260420T041617
CREATED:20250429T072205Z
LAST-MODIFIED:20250429T072205Z
UID:965-1756648800-1756654200@www.witneymuseum.org.uk
SUMMARY:Witney Heritage Walking Tour: From the Bishop’s Palace to the Buttercross
DESCRIPTION:Step back in time and explore the rich history of Witney on this engaging heritage walking tour! From the medieval ruins of the Bishop’s Palace to the iconic Buttercross\, discover the fascinating stories\, hidden gems\, and architectural wonders that shaped this historic market town. \nWhat to Expect: \n\nExplore the remains of the Bishop’s Palace\, once home to the powerful Bishops of Winchester\nDiscover the history behind the Buttercross\, a medieval marketplace.\nEngaging storytelling brings history to life with local legends\, surprising facts\, and little-known secrets.\n\nTour Details: \nStarting Point: Bishop’s Palace ruins\nDuration: Approximately 90 minutes\nEasy-paced walking with stops for stories and photos \nWhether you’re a history enthusiast\, a local wanting to learn more\, or a visitor exploring Oxfordshire\, this tour offers a unique glimpse into Witney’s past. \nTo book your spot please email admin@Witneymuseum.org.uk or call 01993 775915. Spaces are limited so book today!
URL:https://www.witneymuseum.org.uk/event/witney-heritage-walking-tour-from-the-bishops-palace-to-the-buttercross-3/
CATEGORIES:Tour,Walking Tour
ATTACH;FMTTYPE=image/jpeg:https://www.witneymuseum.org.uk/wp-content/uploads/2025/04/a2c721fd-92d5-4b78-9e49-2c71858af290.jpg
END:VEVENT
END:VCALENDAR