BEGIN:VCALENDAR
VERSION:2.0
PRODID:-//Witney District Museum - ECPv6.15.18//NONSGML v1.0//EN
CALSCALE:GREGORIAN
METHOD:PUBLISH
X-ORIGINAL-URL:https://www.witneymuseum.org.uk
X-WR-CALDESC:Events for Witney District Museum
REFRESH-INTERVAL;VALUE=DURATION:PT1H
X-Robots-Tag:noindex
X-PUBLISHED-TTL:PT1H
BEGIN:VTIMEZONE
TZID:Europe/London
BEGIN:DAYLIGHT
TZOFFSETFROM:+0000
TZOFFSETTO:+0100
TZNAME:BST
DTSTART:20250330T010000
END:DAYLIGHT
BEGIN:STANDARD
TZOFFSETFROM:+0100
TZOFFSETTO:+0000
TZNAME:GMT
DTSTART:20251026T010000
END:STANDARD
BEGIN:DAYLIGHT
TZOFFSETFROM:+0000
TZOFFSETTO:+0100
TZNAME:BST
DTSTART:20260329T010000
END:DAYLIGHT
BEGIN:STANDARD
TZOFFSETFROM:+0100
TZOFFSETTO:+0000
TZNAME:GMT
DTSTART:20261025T010000
END:STANDARD
BEGIN:DAYLIGHT
TZOFFSETFROM:+0000
TZOFFSETTO:+0100
TZNAME:BST
DTSTART:20270328T010000
END:DAYLIGHT
BEGIN:STANDARD
TZOFFSETFROM:+0100
TZOFFSETTO:+0000
TZNAME:GMT
DTSTART:20271031T010000
END:STANDARD
END:VTIMEZONE
BEGIN:VEVENT
DTSTART;TZID=Europe/London:20260904T110000
DTEND;TZID=Europe/London:20260904T123000
DTSTAMP:20260419T224724
CREATED:20260406T175214Z
LAST-MODIFIED:20260415T171023Z
UID:1290-1788519600-1788525000@www.witneymuseum.org.uk
SUMMARY:St Mary's Church Tour
DESCRIPTION:St Mary’s Church Tour\, discover the heart of historic Witney. \nJoin us for a guided tour of St Mary’s Church\, a stunning medieval landmark at the heart of Witney. With roots dating back to the 12th century\, this beautiful church is full of fascinating stories\, hidden details\, and centuries of history waiting to be explored. \nLed by a knowledgeable local guide\, the tour brings the building’s rich past to life; from its Norman beginnings to its Gothic grandeur and Victorian restorations. Along the way\, you’ll uncover everything from ancient carvings and stained glass windows to curious local legends and surprising secrets tucked away in the architecture. \nWhether you’re a history lover\, a curious local\, or just looking for something unique to do in Witney\, this tour offers a fresh perspective on one of the town’s most treasured sites. \n\n\n\n\nMeeting Point: St Mary’s Church\, Church Green\, Witney\, Oxfordshire OX28 4AW \nDuration: 60-90 minutes \nLimited spaces so booking essential. To book please contact the museum on: \nemail: admin@Witneymuseum.org.uk \nPhone: 01993 775915
URL:https://www.witneymuseum.org.uk/event/st-marys-church-tour-2/
CATEGORIES:Adult,Tour,Walking Tour
ATTACH;FMTTYPE=image/jpeg:https://www.witneymuseum.org.uk/wp-content/uploads/2025/04/04f5e8ff-055c-41fa-a601-f60dcc1d1d62.jpg
END:VEVENT
END:VCALENDAR