BEGIN:VCALENDAR
VERSION:2.0
PRODID:-//Witney District Museum - ECPv6.15.18//NONSGML v1.0//EN
CALSCALE:GREGORIAN
METHOD:PUBLISH
X-ORIGINAL-URL:https://www.witneymuseum.org.uk
X-WR-CALDESC:Events for Witney District Museum
REFRESH-INTERVAL;VALUE=DURATION:PT1H
X-Robots-Tag:noindex
X-PUBLISHED-TTL:PT1H
BEGIN:VTIMEZONE
TZID:Europe/London
BEGIN:DAYLIGHT
TZOFFSETFROM:+0000
TZOFFSETTO:+0100
TZNAME:BST
DTSTART:20250330T010000
END:DAYLIGHT
BEGIN:STANDARD
TZOFFSETFROM:+0100
TZOFFSETTO:+0000
TZNAME:GMT
DTSTART:20251026T010000
END:STANDARD
BEGIN:DAYLIGHT
TZOFFSETFROM:+0000
TZOFFSETTO:+0100
TZNAME:BST
DTSTART:20260329T010000
END:DAYLIGHT
BEGIN:STANDARD
TZOFFSETFROM:+0100
TZOFFSETTO:+0000
TZNAME:GMT
DTSTART:20261025T010000
END:STANDARD
BEGIN:DAYLIGHT
TZOFFSETFROM:+0000
TZOFFSETTO:+0100
TZNAME:BST
DTSTART:20270328T010000
END:DAYLIGHT
BEGIN:STANDARD
TZOFFSETFROM:+0100
TZOFFSETTO:+0000
TZNAME:GMT
DTSTART:20271031T010000
END:STANDARD
END:VTIMEZONE
BEGIN:VEVENT
DTSTART;TZID=Europe/London:20261101T183000
DTEND;TZID=Europe/London:20261101T200000
DTSTAMP:20260419T185937
CREATED:20260303T161953Z
LAST-MODIFIED:20260303T161953Z
UID:1246-1793557800-1793563200@www.witneymuseum.org.uk
SUMMARY:Witney Secrets: A Halloween Tour
DESCRIPTION:Dark tales\, hidden history & haunted whispers… Dare you walk Witney’s shadowy streets? \nAs night falls over Witney\, step into a world of forgotten stories\, eerie legends\, and untold mysteries. Join us for a spine-tingling journey through the town’s hidden past\, where history meets the supernatural. \nWhat Awaits You? \n\nGhostly Legends – Hear unsettling tales of Witney’s haunted locations\nDark History – Uncover the town’s strangest secrets and mysterious past.\nExperience Witney’s historic streets as never before.\n\nWhether you’re a history lover\, a ghost story enthusiast\, or just looking for a thrilling night out\, this tour will change the way you see Witney forever… \n\n\n\n\n\n\n\n\nMeeting Point: Witney Museum Duration \nDuration: 90 minutes \nLimited spaces so booking essential. To book please contact the museum on: \nemail: admin@Witneymuseum.org.uk \nPhone: 01993 775915 \nAre you brave enough? Book today!
URL:https://www.witneymuseum.org.uk/event/witney-secrets-a-halloween-tour-4/
LOCATION:Witney and District Museum\, 75 High Street\, OX28 6JA
CATEGORIES:Adult,Tour,Walking Tour
ATTACH;FMTTYPE=image/jpeg:https://www.witneymuseum.org.uk/wp-content/uploads/2025/04/992465b3-6349-443b-a37f-07dea2272c31.jpg
END:VEVENT
BEGIN:VEVENT
DTSTART;TZID=Europe/London:20261108T133000
DTEND;TZID=Europe/London:20261108T150000
DTSTAMP:20260419T185937
CREATED:20260303T162705Z
LAST-MODIFIED:20260303T162705Z
UID:1248-1794144600-1794150000@www.witneymuseum.org.uk
SUMMARY:Common Wealth War Graves Guided Walk
DESCRIPTION:
URL:https://www.witneymuseum.org.uk/event/common-wealth-war-graves-guided-walk/
LOCATION:Tower Hill Cemetery\, OX28 5ES
CATEGORIES:Adult,Tour,Walking Tour
ATTACH;FMTTYPE=image/jpeg:https://www.witneymuseum.org.uk/wp-content/uploads/2026/03/PHOTO-2025-11-09-20-55-20.jpg
END:VEVENT
END:VCALENDAR