BEGIN:VCALENDAR
VERSION:2.0
PRODID:-//Witney District Museum - ECPv6.15.18//NONSGML v1.0//EN
CALSCALE:GREGORIAN
METHOD:PUBLISH
X-WR-CALNAME:Witney District Museum
X-ORIGINAL-URL:https://www.witneymuseum.org.uk
X-WR-CALDESC:Events for Witney District Museum
REFRESH-INTERVAL;VALUE=DURATION:PT1H
X-Robots-Tag:noindex
X-PUBLISHED-TTL:PT1H
BEGIN:VTIMEZONE
TZID:UTC
BEGIN:STANDARD
TZOFFSETFROM:+0000
TZOFFSETTO:+0000
TZNAME:UTC
DTSTART:20240101T000000
END:STANDARD
END:VTIMEZONE
BEGIN:VEVENT
DTSTART;TZID=UTC:20250315T100000
DTEND;TZID=UTC:20250315T150000
DTSTAMP:20260420T114542
CREATED:20250303T094637Z
LAST-MODIFIED:20250303T094637Z
UID:931-1742032800-1742050800@www.witneymuseum.org.uk
SUMMARY:Volunteer Open Day
DESCRIPTION:Join Our Team at Witney and District Museum!\n\nAre you passionate about history\, community\, and preserving the rich heritage of Witney?\nWe’re looking for enthusiastic volunteers to help us bring the past to life to support our exciting National Lottery Heritage Funded redevelopment project and ongoing work! \nWhether you’re interested in: \n\nGreeting visitors and sharing local stories\nCataloguing and caring for our fascinating collection\nOrganising events to engage the community\nHelping to maintain our historic building\n\nThere’s a role for everyone! \nCome along to learn how you can get involved and make a difference. If you can’t attend on the day\, don’t worry—get in touch with us at www.witneymuseum.org.uk to find out more. \nBe part of preserving Witney’s history for future generations—we’d love to welcome you to the team! \n  \n\n \nThis session has been made possible by the National Lottery Heritage Fund.
URL:https://www.witneymuseum.org.uk/event/volunteer-open-day/
CATEGORIES:Volunteer
ATTACH;FMTTYPE=image/jpeg:https://www.witneymuseum.org.uk/wp-content/uploads/2025/03/Teal-And-White-Modern-Open-Recruitment-Poster-Presentation-1.jpg
END:VEVENT
END:VCALENDAR