BEGIN:VCALENDAR
VERSION:2.0
PRODID:-//Witney District Museum - ECPv6.15.18//NONSGML v1.0//EN
CALSCALE:GREGORIAN
METHOD:PUBLISH
X-WR-CALNAME:Witney District Museum
X-ORIGINAL-URL:https://www.witneymuseum.org.uk
X-WR-CALDESC:Events for Witney District Museum
REFRESH-INTERVAL;VALUE=DURATION:PT1H
X-Robots-Tag:noindex
X-PUBLISHED-TTL:PT1H
BEGIN:VTIMEZONE
TZID:Europe/London
BEGIN:DAYLIGHT
TZOFFSETFROM:+0000
TZOFFSETTO:+0100
TZNAME:BST
DTSTART:20250330T010000
END:DAYLIGHT
BEGIN:STANDARD
TZOFFSETFROM:+0100
TZOFFSETTO:+0000
TZNAME:GMT
DTSTART:20251026T010000
END:STANDARD
BEGIN:DAYLIGHT
TZOFFSETFROM:+0000
TZOFFSETTO:+0100
TZNAME:BST
DTSTART:20260329T010000
END:DAYLIGHT
BEGIN:STANDARD
TZOFFSETFROM:+0100
TZOFFSETTO:+0000
TZNAME:GMT
DTSTART:20261025T010000
END:STANDARD
BEGIN:DAYLIGHT
TZOFFSETFROM:+0000
TZOFFSETTO:+0100
TZNAME:BST
DTSTART:20270328T010000
END:DAYLIGHT
BEGIN:STANDARD
TZOFFSETFROM:+0100
TZOFFSETTO:+0000
TZNAME:GMT
DTSTART:20271031T010000
END:STANDARD
END:VTIMEZONE
BEGIN:VEVENT
DTSTART;TZID=Europe/London:20260809T133000
DTEND;TZID=Europe/London:20260809T150000
DTSTAMP:20260419T171421
CREATED:20260415T171404Z
LAST-MODIFIED:20260415T171404Z
UID:1306-1786282200-1786287600@www.witneymuseum.org.uk
SUMMARY:Bell History Tour
DESCRIPTION:Join us for a rare opportunity to explore one of Witney’s most historic sites. From the medieval craftsmanship to the mighty bells that have rung for generations\, this tour offers a unique glimpse into the town’s past. \nWhat You’ll Discover: \n\nThe History of Witney’s Bell Tower – Built in the 15th century\, standing tall for over 500 years.\nThe Chance to Chime: have a go a ringing a bell\nThe Bells & Their Stories – Learn about the famous bells and their role in Witney’s past.\n\nStanding proudly at the end of Church Green\, the 156ft spire and grand size of St Mary’s Church reflect the town’s wealth and importance during the Middle Ages\, much of it built on the wool trade. The church was likely founded by the Bishops of Winchester between 1070 and 1100\, possibly on the site of an earlier Saxon church. The present building dates mainly from the 13th century and was dedicated in\nThis exclusive event is perfect for history lovers\, families\, and anyone curious about Witney’s heritage. Don’t miss your chance to see the town from a whole new perspective! \nMeeting Point: St Mary’s Church\, Church Green\, Witney\, Oxfordshire OX28 4AW \nDuration: 60-90 minutes \nLimited spaces so booking essential. To book please contact the museum on: \nemail: admin@Witneymuseum.org.uk \nPhone: 01993 775915
URL:https://www.witneymuseum.org.uk/event/bell-history-tour-2/
LOCATION:St Mary’s Church\, Church Green\, Witney\, OX28 4AW\, United Kingdom
CATEGORIES:Adult,Tour
ATTACH;FMTTYPE=image/jpeg:https://www.witneymuseum.org.uk/wp-content/uploads/2026/03/PHOTO-2026-04-10-14-00-23.jpg
END:VEVENT
BEGIN:VEVENT
DTSTART;TZID=Europe/London:20260823T140000
DTEND;TZID=Europe/London:20260823T153000
DTSTAMP:20260419T171421
CREATED:20260303T163515Z
LAST-MODIFIED:20260303T163515Z
UID:1259-1787493600-1787499000@www.witneymuseum.org.uk
SUMMARY:Heritage Walking Tour
DESCRIPTION:Step back in time and explore the rich history of Witney on this engaging heritage walking tour! From the medieval ruins of the Bishop’s Palace to the iconic Buttercross\, discover the fascinating stories\, hidden gems\, and architectural wonders that shaped this historic market town. \nWhat to Expect: \n\nExplore the remains of the Bishop’s Palace\, once home to the powerful Bishops of Winchester\nDiscover the history behind the Buttercross\, a medieval marketplace.\nEngaging storytelling brings history to life with local legends\, surprising facts\, and little-known secrets.\n\nTour Details: \nStarting Point: Bishop’s Palace ruins\nDuration: Approximately 90 minutes\nEasy-paced walking with stops for stories and photos \nWhether you’re a history enthusiast\, a local wanting to learn more\, or a visitor exploring Oxfordshire\, this tour offers a unique glimpse into Witney’s past. \nTo book your spot please email admin@Witneymuseum.org.uk or call 01993 775915. Spaces are limited so book today!
URL:https://www.witneymuseum.org.uk/event/heritage-walking-tour-4/
LOCATION:Bishops Palace\, 15 Station Ln\, Witney\, OX28 4BB
CATEGORIES:Adult,Tour,Walking Tour
ATTACH;FMTTYPE=image/jpeg:https://www.witneymuseum.org.uk/wp-content/uploads/2025/04/a2c721fd-92d5-4b78-9e49-2c71858af290.jpg
END:VEVENT
END:VCALENDAR